BEGIN:VCALENDAR
VERSION:2.0
PRODID:gruene-kreistag-se.de
METHOD:PUBLISH
BEGIN:VTIMEZONE
TZID:Europe/Berlin
X-LIC-LOCATION:Europe/Berlin
BEGIN:DAYLIGHT
TZOFFSETFROM:+0100
TZOFFSETTO:+0200
TZNAME:CEST
DTSTART:19700329T020000
RRULE:FREQ=YEARLY;INTERVAL=1;BYDAY=-1SU;BYMONTH=3
END:DAYLIGHT
BEGIN:STANDARD
TZOFFSETFROM:+0200
TZOFFSETTO:+0100
TZNAME:CET
DTSTART:19701025T030000
RRULE:FREQ=YEARLY;INTERVAL=1;BYDAY=-1SU;BYMONTH=10
END:STANDARD
END:VTIMEZONE
BEGIN:VEVENT
UID:201c189a2e76d2d04b279669b1881551@gruene-kreistag-se.de
URL;VALUE=URI:https://gruene-kreistag-se.de/termine/gesundheitsfoerderung
 skonferenz/
LOCATION:
SUMMARY:Gesundheitsförderungskonferenz
DESCRIPTION;ALTREP="data:text/html,%3Cp%3EFichtenhofsaal%20Rickling%3C%2F
 p%3E":Fichtenhofsaal Rickling
CLASS:PUBLIC
DTSTART;TZID=Europe/Berlin:20260318T130000
DTEND;TZID=Europe/Berlin:20260318T173000
DTSTAMP:20260421T101204
END:VEVENT
END:VCALENDAR